Workbook

Sheet Items
A1: ITEMS
A2: The contract items, with quantities and rates. Item IDs (IT-001) join every sheet. Type or paste into the white columns; the shaded ones are formulas. Example rows are made up.
A4: Item ID | B4: Description | C4: Unit | D4: Contract qty | E4: Rate | F4: Programme start | G4: Programme finish | H4: Contract value | I4: Measured qty to date | J4: % complete | K4: Value to date | L4: Claimed to date (claim lines) | M4: Measured, not yet claimed
A5: IT-001 | B5: Foundations and slab | C5: m² | D5: 420 | E5: 185 | F5: 46266 | G5: 46295 | H5: =IF(A5="","",ROUND(D5*E5,2)) | I5: =IF(A5="","",SUMIFS('Measurement'!$D:$D,'Measurement'!$C:$C,A5)) | J5: =IF(OR(A5="",N(D5)=0),"",I5/D5) | K5: =IF(A5="","",ROUND(I5*E5,2)) | L5: =IF(A5="","",SUMIFS('Claim lines'!$G:$G,'Claim lines'!$B:$B,A5)) | M5: =IF(A5="","",K5-L5)
A6: IT-002 | B6: Wall and roof framing | C6: m² | D6: 860 | E6: 95 | F6: 46296 | G6: 46346 | H6: =IF(A6="","",ROUND(D6*E6,2)) | I6: =IF(A6="","",SUMIFS('Measurement'!$D:$D,'Measurement'!$C:$C,A6)) | J6: =IF(OR(A6="",N(D6)=0),"",I6/D6) | K6: =IF(A6="","",ROUND(I6*E6,2)) | L6: =IF(A6="","",SUMIFS('Claim lines'!$G:$G,'Claim lines'!$B:$B,A6)) | M6: =IF(A6="","",K6-L6)
A7: IT-003 | B7: Roofing | C7: m² | D7: 380 | E7: 120 | F7: 46328 | G7: 46353 | H7: =IF(A7="","",ROUND(D7*E7,2)) | I7: =IF(A7="","",SUMIFS('Measurement'!$D:$D,'Measurement'!$C:$C,A7)) | J7: =IF(OR(A7="",N(D7)=0),"",I7/D7) | K7: =IF(A7="","",ROUND(I7*E7,2)) | L7: =IF(A7="","",SUMIFS('Claim lines'!$G:$G,'Claim lines'!$B:$B,A7)) | M7: =IF(A7="","",K7-L7)
A8: IT-004 | B8: Electrical rough-in | C8: each | D8: 6 | E8: 9500 | F8: 46314 | G8: 46360 | H8: =IF(A8="","",ROUND(D8*E8,2)) | I8: =IF(A8="","",SUMIFS('Measurement'!$D:$D,'Measurement'!$C:$C,A8)) | J8: =IF(OR(A8="",N(D8)=0),"",I8/D8) | K8: =IF(A8="","",ROUND(I8*E8,2)) | L8: =IF(A8="","",SUMIFS('Claim lines'!$G:$G,'Claim lines'!$B:$B,A8)) | M8: =IF(A8="","",K8-L8)
A9: IT-005 | B9: Cladding | C9: m² | D9: 640 | E9: 140 | F9: 46342 | G9: 46374 | H9: =IF(A9="","",ROUND(D9*E9,2)) | I9: =IF(A9="","",SUMIFS('Measurement'!$D:$D,'Measurement'!$C:$C,A9)) | J9: =IF(OR(A9="",N(D9)=0),"",I9/D9) | K9: =IF(A9="","",ROUND(I9*E9,2)) | L9: =IF(A9="","",SUMIFS('Claim lines'!$G:$G,'Claim lines'!$B:$B,A9)) | M9: =IF(A9="","",K9-L9)
H10: =IF(A10="","",ROUND(D10*E10,2)) | I10: =IF(A10="","",SUMIFS('Measurement'!$D:$D,'Measurement'!$C:$C,A10)) | J10: =IF(OR(A10="",N(D10)=0),"",I10/D10) | K10: =IF(A10="","",ROUND(I10*E10,2)) | L10: =IF(A10="","",SUMIFS('Claim lines'!$G:$G,'Claim lines'!$B:$B,A10)) | M10: =IF(A10="","",K10-L10)
H11: =IF(A11="","",ROUND(D11*E11,2)) | I11: =IF(A11="","",SUMIFS('Measurement'!$D:$D,'Measurement'!$C:$C,A11)) | J11: =IF(OR(A11="",N(D11)=0),"",I11/D11) | K11: =IF(A11="","",ROUND(I11*E11,2)) | L11: =IF(A11="","",SUMIFS('Claim lines'!$G:$G,'Claim lines'!$B:$B,A11)) | M11: =IF(A11="","",K11-L11)
H12: =IF(A12="","",ROUND(D12*E12,2)) | I12: =IF(A12="","",SUMIFS('Measurement'!$D:$D,'Measurement'!$C:$C,A12)) | J12: =IF(OR(A12="",N(D12)=0),"",I12/D12) | K12: =IF(A12="","",ROUND(I12*E12,2)) | L12: =IF(A12="","",SUMIFS('Claim lines'!$G:$G,'Claim lines'!$B:$B,A12)) | M12: =IF(A12="","",K12-L12)
H13: =IF(A13="","",ROUND(D13*E13,2)) | I13: =IF(A13="","",SUMIFS('Measurement'!$D:$D,'Measurement'!$C:$C,A13)) | J13: =IF(OR(A13="",N(D13)=0),"",I13/D13) | K13: =IF(A13="","",ROUND(I13*E13,2)) | L13: =IF(A13="","",SUMIFS('Claim lines'!$G:$G,'Claim lines'!$B:$B,A13)) | M13: =IF(A13="","",K13-L13)
H14: =IF(A14="","",ROUND(D14*E14,2)) | I14: =IF(A14="","",SUMIFS('Measurement'!$D:$D,'Measurement'!$C:$C,A14)) | J14: =IF(OR(A14="",N(D14)=0),"",I14/D14) | K14: =IF(A14="","",ROUND(I14*E14,2)) | L14: =IF(A14="","",SUMIFS('Claim lines'!$G:$G,'Claim lines'!$B:$B,A14)) | M14: =IF(A14="","",K14-L14)
H15: =IF(A15="","",ROUND(D15*E15,2)) | I15: =IF(A15="","",SUMIFS('Measurement'!$D:$D,'Measurement'!$C:$C,A15)) | J15: =IF(OR(A15="",N(D15)=0),"",I15/D15) | K15: =IF(A15="","",ROUND(I15*E15,2)) | L15: =IF(A15="","",SUMIFS('Claim lines'!$G:$G,'Claim lines'!$B:$B,A15)) | M15: =IF(A15="","",K15-L15)
H16: =IF(A16="","",ROUND(D16*E16,2)) | I16: =IF(A16="","",SUMIFS('Measurement'!$D:$D,'Measurement'!$C:$C,A16)) | J16: =IF(OR(A16="",N(D16)=0),"",I16/D16) | K16: =IF(A16="","",ROUND(I16*E16,2)) | L16: =IF(A16="","",SUMIFS('Claim lines'!$G:$G,'Claim lines'!$B:$B,A16)) | M16: =IF(A16="","",K16-L16)
H17: =IF(A17="","",ROUND(D17*E17,2)) | I17: =IF(A17="","",SUMIFS('Measurement'!$D:$D,'Measurement'!$C:$C,A17)) | J17: =IF(OR(A17="",N(D17)=0),"",I17/D17) | K17: =IF(A17="","",ROUND(I17*E17,2)) | L17: =IF(A17="","",SUMIFS('Claim lines'!$G:$G,'Claim lines'!$B:$B,A17)) | M17: =IF(A17="","",K17-L17)
H18: =IF(A18="","",ROUND(D18*E18,2)) | I18: =IF(A18="","",SUMIFS('Measurement'!$D:$D,'Measurement'!$C:$C,A18)) | J18: =IF(OR(A18="",N(D18)=0),"",I18/D18) | K18: =IF(A18="","",ROUND(I18*E18,2)) | L18: =IF(A18="","",SUMIFS('Claim lines'!$G:$G,'Claim lines'!$B:$B,A18)) | M18: =IF(A18="","",K18-L18)
H19: =IF(A19="","",ROUND(D19*E19,2)) | I19: =IF(A19="","",SUMIFS('Measurement'!$D:$D,'Measurement'!$C:$C,A19)) | J19: =IF(OR(A19="",N(D19)=0),"",I19/D19) | K19: =IF(A19="","",ROUND(I19*E19,2)) | L19: =IF(A19="","",SUMIFS('Claim lines'!$G:$G,'Claim lines'!$B:$B,A19)) | M19: =IF(A19="","",K19-L19)
H20: =IF(A20="","",ROUND(D20*E20,2)) | I20: =IF(A20="","",SUMIFS('Measurement'!$D:$D,'Measurement'!$C:$C,A20)) | J20: =IF(OR(A20="",N(D20)=0),"",I20/D20) | K20: =IF(A20="","",ROUND(I20*E20,2)) | L20: =IF(A20="","",SUMIFS('Claim lines'!$G:$G,'Claim lines'!$B:$B,A20)) | M20: =IF(A20="","",K20-L20)
H21: =IF(A21="","",ROUND(D21*E21,2)) | I21: =IF(A21="","",SUMIFS('Measurement'!$D:$D,'Measurement'!$C:$C,A21)) | J21: =IF(OR(A21="",N(D21)=0),"",I21/D21) | K21: =IF(A21="","",ROUND(I21*E21,2)) | L21: =IF(A21="","",SUMIFS('Claim lines'!$G:$G,'Claim lines'!$B:$B,A21)) | M21: =IF(A21="","",K21-L21)
... H49: =IF(A49="","",ROUND(D49*E49,2)) | I49: =IF(A49="","",SUMIFS('Measurement'!$D:$D,'Measurement'!$C:$C,A49)) | J49: =IF(OR(A49="",N(D49)=0),"",I49/D49) | K49: =IF(A49="","",ROUND(I49*E49,2)) | L49: =IF(A49="","",SUMIFS('Claim lines'!$G:$G,'Claim lines'!$B:$B,A49)) | M49: =IF(A49="","",K49-L49)
A51: Free template from Black Creek Solutions (blackcreek.co.nz). Information, not legal advice. Check it against your contract before you use it.

Sheet Measurement
A1: MEASUREMENT
A2: One row per measurement: the quantity measured that time. The diary ID and photo references back it up. Type or paste into the white columns; the shaded ones are formulas. Example rows are made up.
A4: Measurement ID | B4: Date | C4: Item ID | D4: Qty measured | E4: Area or location | F4: Diary ID | G4: Photo refs | H4: Measured by | I4: Notes | J4: Rate (from Items) | K4: Value measured
A5: M-001 | B5: 46290 | C5: IT-001 | D5: 420 | E5: Blocks A and B | F5: D-001 | G5: P-0101 | H5: Sample site engineer | J5: =IF(A5="","",IFERROR(INDEX('Items'!$E:$E,MATCH(C5,'Items'!$A:$A,0)),"Item not found")) | K5: =IF(OR(A5="",NOT(ISNUMBER(J5))),"",ROUND(D5*J5,2))
A6: M-002 | B6: 46311 | C6: IT-002 | D6: 300 | E6: Level 1, blocks A and B | F6: D-004 | G6: P-0144 | H6: Sample site engineer | J6: =IF(A6="","",IFERROR(INDEX('Items'!$E:$E,MATCH(C6,'Items'!$A:$A,0)),"Item not found")) | K6: =IF(OR(A6="",NOT(ISNUMBER(J6))),"",ROUND(D6*J6,2))
A7: M-003 | B7: 46325 | C7: IT-002 | D7: 216 | E7: Roof, block A | F7: D-006 | G7: P-0160 | H7: Sample site engineer | J7: =IF(A7="","",IFERROR(INDEX('Items'!$E:$E,MATCH(C7,'Items'!$A:$A,0)),"Item not found")) | K7: =IF(OR(A7="",NOT(ISNUMBER(J7))),"",ROUND(D7*J7,2))
A8: M-004 | B8: 46325 | C8: IT-004 | D8: 2 | E8: Units 1 and 2 | F8: D-006 | G8: P-0161 | H8: Sample site engineer | J8: =IF(A8="","",IFERROR(INDEX('Items'!$E:$E,MATCH(C8,'Items'!$A:$A,0)),"Item not found")) | K8: =IF(OR(A8="",NOT(ISNUMBER(J8))),"",ROUND(D8*J8,2))
A9: M-005 | B9: 46330 | C9: IT-002 | D9: 120 | E9: Block B | F9: D-008 | G9: P-0175 | H9: Sample site engineer | J9: =IF(A9="","",IFERROR(INDEX('Items'!$E:$E,MATCH(C9,'Items'!$A:$A,0)),"Item not found")) | K9: =IF(OR(A9="",NOT(ISNUMBER(J9))),"",ROUND(D9*J9,2))
A10: M-006 | B10: 46331 | C10: IT-003 | D10: 95 | E10: Roof, block A | H10: Sample site engineer | J10: =IF(A10="","",IFERROR(INDEX('Items'!$E:$E,MATCH(C10,'Items'!$A:$A,0)),"Item not found")) | K10: =IF(OR(A10="",NOT(ISNUMBER(J10))),"",ROUND(D10*J10,2))
J11: =IF(A11="","",IFERROR(INDEX('Items'!$E:$E,MATCH(C11,'Items'!$A:$A,0)),"Item not found")) | K11: =IF(OR(A11="",NOT(ISNUMBER(J11))),"",ROUND(D11*J11,2))
J12: =IF(A12="","",IFERROR(INDEX('Items'!$E:$E,MATCH(C12,'Items'!$A:$A,0)),"Item not found")) | K12: =IF(OR(A12="",NOT(ISNUMBER(J12))),"",ROUND(D12*J12,2))
J13: =IF(A13="","",IFERROR(INDEX('Items'!$E:$E,MATCH(C13,'Items'!$A:$A,0)),"Item not found")) | K13: =IF(OR(A13="",NOT(ISNUMBER(J13))),"",ROUND(D13*J13,2))
J14: =IF(A14="","",IFERROR(INDEX('Items'!$E:$E,MATCH(C14,'Items'!$A:$A,0)),"Item not found")) | K14: =IF(OR(A14="",NOT(ISNUMBER(J14))),"",ROUND(D14*J14,2))
J15: =IF(A15="","",IFERROR(INDEX('Items'!$E:$E,MATCH(C15,'Items'!$A:$A,0)),"Item not found")) | K15: =IF(OR(A15="",NOT(ISNUMBER(J15))),"",ROUND(D15*J15,2))
J16: =IF(A16="","",IFERROR(INDEX('Items'!$E:$E,MATCH(C16,'Items'!$A:$A,0)),"Item not found")) | K16: =IF(OR(A16="",NOT(ISNUMBER(J16))),"",ROUND(D16*J16,2))
J17: =IF(A17="","",IFERROR(INDEX('Items'!$E:$E,MATCH(C17,'Items'!$A:$A,0)),"Item not found")) | K17: =IF(OR(A17="",NOT(ISNUMBER(J17))),"",ROUND(D17*J17,2))
J18: =IF(A18="","",IFERROR(INDEX('Items'!$E:$E,MATCH(C18,'Items'!$A:$A,0)),"Item not found")) | K18: =IF(OR(A18="",NOT(ISNUMBER(J18))),"",ROUND(D18*J18,2))
J19: =IF(A19="","",IFERROR(INDEX('Items'!$E:$E,MATCH(C19,'Items'!$A:$A,0)),"Item not found")) | K19: =IF(OR(A19="",NOT(ISNUMBER(J19))),"",ROUND(D19*J19,2))
J20: =IF(A20="","",IFERROR(INDEX('Items'!$E:$E,MATCH(C20,'Items'!$A:$A,0)),"Item not found")) | K20: =IF(OR(A20="",NOT(ISNUMBER(J20))),"",ROUND(D20*J20,2))
J21: =IF(A21="","",IFERROR(INDEX('Items'!$E:$E,MATCH(C21,'Items'!$A:$A,0)),"Item not found")) | K21: =IF(OR(A21="",NOT(ISNUMBER(J21))),"",ROUND(D21*J21,2))
J22: =IF(A22="","",IFERROR(INDEX('Items'!$E:$E,MATCH(C22,'Items'!$A:$A,0)),"Item not found")) | K22: =IF(OR(A22="",NOT(ISNUMBER(J22))),"",ROUND(D22*J22,2))
... J50: =IF(A50="","",IFERROR(INDEX('Items'!$E:$E,MATCH(C50,'Items'!$A:$A,0)),"Item not found")) | K50: =IF(OR(A50="",NOT(ISNUMBER(J50))),"",ROUND(D50*J50,2))
A52: Free template from Black Creek Solutions (blackcreek.co.nz). Information, not legal advice. Check it against your contract before you use it.

Sheet Claim lines
A1: CLAIM LINES
A2: One row per line of each claim, with the measurements behind it. Exported by the progress measurement sheet. Type or paste into the white columns; the shaded ones are formulas. Example rows are made up.
A4: Claim no | B4: Item ID | C4: Description | D4: % complete | E4: Value to date | F4: Previously claimed | G4: This claim | H4: Measurement IDs | I4: Measurement named | J4: Check: to date less before less this claim (0)
A5: PC-01 | B5: IT-001 | C5: Foundations and slab | D5: 1 | E5: 77700 | F5: 0 | G5: 77700 | H5: M-001 | I5: =IF(A5="","",IF(H5="","No measurement ID","Yes")) | J5: =IF(A5="","",ROUND(E5-F5-G5,2))
A6: PC-02 | B6: IT-001 | C6: Foundations and slab | D6: 1 | E6: 77700 | F6: 77700 | G6: 0 | H6: M-001 | I6: =IF(A6="","",IF(H6="","No measurement ID","Yes")) | J6: =IF(A6="","",ROUND(E6-F6-G6,2))
A7: PC-02 | B7: IT-002 | C7: Wall and roof framing | D7: 0.6 | E7: 49020 | F7: 0 | G7: 49020 | H7: M-002, M-003 | I7: =IF(A7="","",IF(H7="","No measurement ID","Yes")) | J7: =IF(A7="","",ROUND(E7-F7-G7,2))
A8: PC-02 | B8: IT-004 | C8: Electrical rough-in | D8: 0.3333 | E8: 19000 | F8: 0 | G8: 19000 | H8: M-004 | I8: =IF(A8="","",IF(H8="","No measurement ID","Yes")) | J8: =IF(A8="","",ROUND(E8-F8-G8,2))
I9: =IF(A9="","",IF(H9="","No measurement ID","Yes")) | J9: =IF(A9="","",ROUND(E9-F9-G9,2))
I10: =IF(A10="","",IF(H10="","No measurement ID","Yes")) | J10: =IF(A10="","",ROUND(E10-F10-G10,2))
I11: =IF(A11="","",IF(H11="","No measurement ID","Yes")) | J11: =IF(A11="","",ROUND(E11-F11-G11,2))
I12: =IF(A12="","",IF(H12="","No measurement ID","Yes")) | J12: =IF(A12="","",ROUND(E12-F12-G12,2))
I13: =IF(A13="","",IF(H13="","No measurement ID","Yes")) | J13: =IF(A13="","",ROUND(E13-F13-G13,2))
I14: =IF(A14="","",IF(H14="","No measurement ID","Yes")) | J14: =IF(A14="","",ROUND(E14-F14-G14,2))
I15: =IF(A15="","",IF(H15="","No measurement ID","Yes")) | J15: =IF(A15="","",ROUND(E15-F15-G15,2))
I16: =IF(A16="","",IF(H16="","No measurement ID","Yes")) | J16: =IF(A16="","",ROUND(E16-F16-G16,2))
I17: =IF(A17="","",IF(H17="","No measurement ID","Yes")) | J17: =IF(A17="","",ROUND(E17-F17-G17,2))
I18: =IF(A18="","",IF(H18="","No measurement ID","Yes")) | J18: =IF(A18="","",ROUND(E18-F18-G18,2))
I19: =IF(A19="","",IF(H19="","No measurement ID","Yes")) | J19: =IF(A19="","",ROUND(E19-F19-G19,2))
I20: =IF(A20="","",IF(H20="","No measurement ID","Yes")) | J20: =IF(A20="","",ROUND(E20-F20-G20,2))
... I48: =IF(A48="","",IF(H48="","No measurement ID","Yes")) | J48: =IF(A48="","",ROUND(E48-F48-G48,2))
A50: Free template from Black Creek Solutions (blackcreek.co.nz). Information, not legal advice. Check it against your contract before you use it.
